BEGIN:VCALENDAR
VERSION:2.0
PRODID:-//Sonja &amp; Yoga - ECPv6.5.2//NONSGML v1.0//EN
CALSCALE:GREGORIAN
METHOD:PUBLISH
X-WR-CALNAME:Sonja &amp; Yoga
X-ORIGINAL-URL:https://sonjaandyoga.com
X-WR-CALDESC:Events for Sonja &amp; Yoga
REFRESH-INTERVAL;VALUE=DURATION:PT1H
X-Robots-Tag:noindex
X-PUBLISHED-TTL:PT1H
BEGIN:VTIMEZONE
TZID:UTC
BEGIN:STANDARD
TZOFFSETFROM:+0000
TZOFFSETTO:+0000
TZNAME:UTC
DTSTART:20240101T000000
END:STANDARD
END:VTIMEZONE
BEGIN:VEVENT
DTSTART;TZID=UTC:20241030T193000
DTEND;TZID=UTC:20241030T210000
DTSTAMP:20260422T222225
CREATED:20241006T154351Z
LAST-MODIFIED:20241006T160955Z
UID:387-1730316600-1730322000@sonjaandyoga.com
SUMMARY:Somatic Breathwork Online Community Session
DESCRIPTION:ONLINE ZOOM MEETING: \nMittwoch\, 30.10.2024 19:30-21:00 Uhr \n \nBist du bereit\, die transformative Kraft deines Atems zu entdecken? Somatic Breathwork bietet dir die Möglichkeit\, tief zu entspannen\, Stress abzubauen und eine stärkere Verbindung zu dir selbst aufzubauen. Egal\, ob du erfahren bist oder neu in der Welt des Breathworks bist\, diese Session ist für jeden geeignet\, der bereit ist\, sich auf eine innere Reise zu begeben \nMöchtest du mehr Energie\, weniger Stress und ein tieferes Gefühl von Wohlbefinden? Dann ist Somatic Breathwork genau das Richtige für dich. In dieser Session laden wir dich ein\, die heilende Kraft deines Atems zu erfahren und neue Perspektiven zu gewinnen. \n  \nWarum Somatic Breathwork so wertvoll ist: \n\nTiefe Entspannung: Durch gezielte Atemübungen können wir in einen Zustand tiefer Entspannung gelangen\, der Stresshormone reduziert und das Nervensystem beruhigt.\nVerbesserte Körperwahrnehmung: Somatic Breathwork hilft uns\, achtsamer mit unserem Körper umzugehen und Spannungen sowie Blockaden besser wahrzunehmen.\nEmotionale Verarbeitung: Der Atem ist eng mit unseren Emotionen verbunden. Durch gezielte Atemübungen können wir Emotionen besser verstehen und verarbeiten.\nStärkung des Immunsystems: Regelmäßiges Breathwork kann das Immunsystem stärken und die Widerstandskraft gegen Krankheiten erhöhen.\nErhöhte Lebensenergie: Durch eine verbesserte Sauerstoffversorgung fühlen wir uns vitaler und energiegeladener.\nTiefere Verbindung zu sich selbst: Breathwork ermöglicht es uns\, in Kontakt mit unserem inneren Selbst zu treten und ein tieferes Verständnis für unsere Bedürfnisse zu entwickeln.\nFörderung der Kreativität: Durch eine erweiterte Bewusstseinslage kann Breathwork die Kreativität anregen und neue Perspektiven eröffnen.\nUnterstützung bei der Bewältigung von Traumata: Breathwork kann ein sanfter Weg sein\, um Traumata zu verarbeiten und Heilungsprozesse anzustoßen.\n\nWarum jeder es einmal ausprobieren sollte: \n\nKeine Vorkenntnisse nötig: Breathwork ist für jeden geeignet\, unabhängig von Alter\, Fitnesslevel oder Vorkenntnissen.\nSanfte und effektive Methode: Breathwork ist eine sanfte Methode\, die dennoch tiefgreifende Veränderungen bewirken kann.\nKomplementär zu anderen Therapieformen: Breathwork kann als Ergänzung zu anderen Therapieformen wie Yoga\, Meditation oder Psychotherapie eingesetzt werden.\nNeugierde befriedigen: Breathwork ist eine faszinierende Erfahrung\, die die eigene Neugierde befriedigt und den Horizont erweitert.\nGeschenk an sich selbst: Eine Breathwork-Session ist ein wunderbares Geschenk an sich selbst\, um Körper und Geist zu pflegen.\n\n  \nZoom Link wird nach der Registrierung zugesendet.  \n 
URL:https://sonjaandyoga.com/event/somatic-breathwork-online-community-session/
LOCATION:ZOOM
ORGANIZER;CN="Sonja & Yoga":MAILTO:sonjaandyoga@gmail.com
END:VEVENT
END:VCALENDAR